BEGIN:VCALENDAR
VERSION:2.0
PRODID:-//U!REKA - ECPv6.15.20//NONSGML v1.0//EN
CALSCALE:GREGORIAN
METHOD:PUBLISH
X-WR-CALNAME:U!REKA
X-ORIGINAL-URL:https://ureka.eu
X-WR-CALDESC:Events for U!REKA
REFRESH-INTERVAL;VALUE=DURATION:PT1H
X-Robots-Tag:noindex
X-PUBLISHED-TTL:PT1H
BEGIN:VTIMEZONE
TZID:Europe/Helsinki
BEGIN:DAYLIGHT
TZOFFSETFROM:+0200
TZOFFSETTO:+0300
TZNAME:EEST
DTSTART:20240331T010000
END:DAYLIGHT
BEGIN:STANDARD
TZOFFSETFROM:+0300
TZOFFSETTO:+0200
TZNAME:EET
DTSTART:20241027T010000
END:STANDARD
BEGIN:DAYLIGHT
TZOFFSETFROM:+0200
TZOFFSETTO:+0300
TZNAME:EEST
DTSTART:20250330T010000
END:DAYLIGHT
BEGIN:STANDARD
TZOFFSETFROM:+0300
TZOFFSETTO:+0200
TZNAME:EET
DTSTART:20251026T010000
END:STANDARD
BEGIN:DAYLIGHT
TZOFFSETFROM:+0200
TZOFFSETTO:+0300
TZNAME:EEST
DTSTART:20260329T010000
END:DAYLIGHT
BEGIN:STANDARD
TZOFFSETFROM:+0300
TZOFFSETTO:+0200
TZNAME:EET
DTSTART:20261025T010000
END:STANDARD
END:VTIMEZONE
BEGIN:VEVENT
DTSTART;TZID=Europe/Helsinki:20250707T100000
DTEND;TZID=Europe/Helsinki:20250718T130000
DTSTAMP:20260425T184438
CREATED:20250408T120133Z
LAST-MODIFIED:20250415T125803Z
UID:5860-1751882400-1752843600@ureka.eu
SUMMARY:Portuguese as a foreign language
DESCRIPTION:07-18 July 2025\, daily from 10.00h – 13.00h UTC+2 (30 hours) \nContent: \nWith this course you will learn the basics of Portuguese Language\, one of the most spoken languages in the world! \nThroughout the course\, an intercultural approach will be held\, fostering mutual understanding inherent in the linguistic and cultural diversity made possible by globalisation. The aim is to contribute to the development of multilingual and multicultural awareness through the promotion of the Portuguese language and culture.\nBy the end of this course\, students are expected to have acquired knowledge of the lexicon and grammatical structures that will enable them to understand basic ideas and communicate appropriately in simple everyday situations. \nLearning Outcomes: \n\nUnderstand and use everyday expressions and simple phrases in order to meet specific communication needs.\nIntroduce yourself and others and be able to ask questions and give answers about personal topics.\nCommunicate in a simple way in different daily situations.\n\n  \nPractical information: \nLevel: Beginners \nMax. 15 participants \nTrainer: Sandro Dias (CLiC –IPL) \n  \nRegister here \nContact email: aestrela@clic.ipl.pt
URL:https://ureka.eu/all-events/portuguese-as-a-foreign-language/
LOCATION:online MS Teams
CATEGORIES:Staff Training
END:VEVENT
END:VCALENDAR