BEGIN:VCALENDAR
VERSION:2.0
PRODID:-//U!REKA - ECPv6.15.20//NONSGML v1.0//EN
CALSCALE:GREGORIAN
METHOD:PUBLISH
X-ORIGINAL-URL:https://ureka.eu
X-WR-CALDESC:Events for U!REKA
REFRESH-INTERVAL;VALUE=DURATION:PT1H
X-Robots-Tag:noindex
X-PUBLISHED-TTL:PT1H
BEGIN:VTIMEZONE
TZID:Europe/Helsinki
BEGIN:DAYLIGHT
TZOFFSETFROM:+0200
TZOFFSETTO:+0300
TZNAME:EEST
DTSTART:20240331T010000
END:DAYLIGHT
BEGIN:STANDARD
TZOFFSETFROM:+0300
TZOFFSETTO:+0200
TZNAME:EET
DTSTART:20241027T010000
END:STANDARD
BEGIN:DAYLIGHT
TZOFFSETFROM:+0200
TZOFFSETTO:+0300
TZNAME:EEST
DTSTART:20250330T010000
END:DAYLIGHT
BEGIN:STANDARD
TZOFFSETFROM:+0300
TZOFFSETTO:+0200
TZNAME:EET
DTSTART:20251026T010000
END:STANDARD
BEGIN:DAYLIGHT
TZOFFSETFROM:+0200
TZOFFSETTO:+0300
TZNAME:EEST
DTSTART:20260329T010000
END:DAYLIGHT
BEGIN:STANDARD
TZOFFSETFROM:+0300
TZOFFSETTO:+0200
TZNAME:EET
DTSTART:20261025T010000
END:STANDARD
END:VTIMEZONE
BEGIN:VEVENT
DTSTART;TZID=Europe/Helsinki:20251010T100000
DTEND;TZID=Europe/Helsinki:20251212T123000
DTSTAMP:20260425T133134
CREATED:20250908T135854Z
LAST-MODIFIED:20250908T135854Z
UID:8227-1760090400-1765542600@ureka.eu
SUMMARY:Internationalisation for teachers
DESCRIPTION:Are you interested in internationalising your teaching and classroom\, online and/or live\, and curious about how this is being done at other universities of applied sciences? \nThen this course is for you! \nContent: \n\n10th October 2025 – How internationalisation-ready is your programme?\n\nIntroduction to the course. Mapping an internationalized and decolonized curriculum: what is it and why is it important in your context? \n\n31st October 2025 – How internationalisation-ready is your module?\n\nDesigning. Understanding how alignment can be achieved in teaching\, learning\, and assessment in the process of internationalising a module and its learning outcomes. \n\n7th November 2025 – How internationalisation-ready are you?\n\nReflecting. Cultural perspectives and their influence on our teaching. \n\n21st November 2025 – How internationalisation-ready is your classroom?\n\nPedagogy. Identifying strategies methods and tools that can be applied in the classroom. \n\n5th December 2025 – How globally connected are you?\n\nDesign. Virtual or online collaboration (COIL/BIP) – what is it and how can it be integrated in your module? \n\n12th December 2025 – How international is your assessment?\n\nEvaluating. Direct and indirect forms of assessing international and intercultural competences – challenges & opportunities\n \nPractical information:\nThe course will be facilitated online\, on Friday mornings from 10.00 – 12.30 CET\nLanguage: English \nTrainer: Eva Haug (AUAS)\ncontact email: e.m.haug@hva.nl \n\nRegister here
URL:https://ureka.eu/all-events/internationalisation-for-teachers/
LOCATION:online MS Teams
CATEGORIES:Staff Training
END:VEVENT
BEGIN:VEVENT
DTSTART;VALUE=DATE:20251015
DTEND;VALUE=DATE:20251016
DTSTAMP:20260425T133134
CREATED:20251006T141058Z
LAST-MODIFIED:20251006T141351Z
UID:8470-1760486400-1760572799@ureka.eu
SUMMARY:U!REKA staff training: Presentation Skills
DESCRIPTION:This course focuses on developing effective presentation skills that enable participants to confidently deliver engaging and persuasive presentations. The training covers essential aspects of public speaking\, including audience analysis\, speech structure\, visual aids\, and body language. Participants will also learn strategies to manage anxiety\, handle questions\, and use technology to enhance their presentations. Through practical exercises and feedback\, learners will refine their ability to communicate ideas clearly and convincingly. \nLearning outcomes:  \n\nStructure a Presentation: Develop a clear and logical structure for presentations\, including an engaging introduction\, informative body\, and memorable conclusion.\n\n\nAnalyze the Audience: Tailor presentations to suit the audience’s needs\, interests\, and level of understanding.\n\n\nEnhance Delivery Techniques: Utilize effective verbal and non-verbal communication skills\, including tone\, pace\, gestures\, and eye contact.\n\n\nDesign Visual Aids: Create compelling visual aids (slides\, charts\, graphics) that support and enhance the spoken message without overwhelming the audience.\n\n\nManage Presentation Anxiety: Apply techniques to manage nerves and maintain composure during presentations.\n\n\nEngage with the Audience: Use interactive elements and rhetorical strategies to engage the audience\, encourage participation\, and maintain attention.\n\n\nHandle Questions and Feedback: Respond confidently and effectively to audience questions and feedback during and after the presentation.\n\n\nUse Technology: Leverage presentation software and tools to create professional and impactful presentations.\n\nPractical information: for participants of the International Week at VSB-TUO \nTrainer: Kateřina Kashi (VSB-TUO)
URL:https://ureka.eu/all-events/ureka-staff-training-presentation-skills/
LOCATION:VSB – Technical University of Ostrava\, 17. listopadu 2172/15\, Ostrava\, Czech Republic
CATEGORIES:Events,Staff Training
ORGANIZER;CN="VSB-TUO":MAILTO:ureka@vsb.cz
END:VEVENT
BEGIN:VEVENT
DTSTART;VALUE=DATE:20251015
DTEND;VALUE=DATE:20251016
DTSTAMP:20260425T133134
CREATED:20251006T141215Z
LAST-MODIFIED:20251006T141405Z
UID:8473-1760486400-1760572799@ureka.eu
SUMMARY:U!REKA staff training: Procrastination and Time Management
DESCRIPTION:This course provides participants with the tools and techniques necessary to manage their time more effectively\, enhancing productivity and reducing stress. The training covers key principles of time management\, such as goal setting\, prioritization\, and delegation. Participants will learn how to identify time wasters\, create efficient schedules\, and balance work-life demands. Through practical exercises\, learners will develop personalized time management strategies that can be applied in both professional and personal settings. \nLearning outcomes:  \n\nSet SMART Goals: Define and set Specific\, Measurable\, Achievable\, Relevant\, and Time-bound goals to guide their time management efforts.\n\n\nPrioritize Tasks: Use tools like the Eisenhower Matrix to differentiate between urgent and important tasks\, ensuring that time is allocated to high-priority activities.\n\n\nPlan and Schedule: Develop daily\, weekly\, and monthly plans that effectively allocate time to key tasks while allowing for flexibility.\n\n\nIdentify and Eliminate Time Wasters: Recognize common time-wasting activities and implement strategies to minimize or eliminate them.\n\n\nImprove Focus and Concentration: Apply techniques to enhance focus and minimize distractions\, leading to more productive work sessions.\n\n\nDelegate Effectively: Understand the importance of delegation and learn how to delegate tasks appropriately to optimize team performance.\n\n\nBalance Work and Life: Develop strategies to maintain a healthy balance between professional responsibilities and personal life\, reducing burnout.\n\n\nUse Time Management Tools: Become proficient in using various time management tools and apps\, such as calendars\, to-do lists\, and project management software.\n\nPractical information: for participants of the International Week at VSB-TUO \nTrainer: Kateřina Kashi (VSB-TUO)
URL:https://ureka.eu/all-events/ureka-staff-training-procrastination-and-time-management/
LOCATION:VSB – Technical University of Ostrava\, 17. listopadu 2172/15\, Ostrava\, Czech Republic
CATEGORIES:Events,Staff Training
ORGANIZER;CN="VSB-TUO":MAILTO:ureka@vsb.cz
END:VEVENT
END:VCALENDAR