BEGIN:VCALENDAR
VERSION:2.0
PRODID:-//U!REKA - ECPv6.15.20//NONSGML v1.0//EN
CALSCALE:GREGORIAN
METHOD:PUBLISH
X-ORIGINAL-URL:https://ureka.eu
X-WR-CALDESC:Events for U!REKA
REFRESH-INTERVAL;VALUE=DURATION:PT1H
X-Robots-Tag:noindex
X-PUBLISHED-TTL:PT1H
BEGIN:VTIMEZONE
TZID:Europe/Helsinki
BEGIN:DAYLIGHT
TZOFFSETFROM:+0200
TZOFFSETTO:+0300
TZNAME:EEST
DTSTART:20240331T010000
END:DAYLIGHT
BEGIN:STANDARD
TZOFFSETFROM:+0300
TZOFFSETTO:+0200
TZNAME:EET
DTSTART:20241027T010000
END:STANDARD
BEGIN:DAYLIGHT
TZOFFSETFROM:+0200
TZOFFSETTO:+0300
TZNAME:EEST
DTSTART:20250330T010000
END:DAYLIGHT
BEGIN:STANDARD
TZOFFSETFROM:+0300
TZOFFSETTO:+0200
TZNAME:EET
DTSTART:20251026T010000
END:STANDARD
BEGIN:DAYLIGHT
TZOFFSETFROM:+0200
TZOFFSETTO:+0300
TZNAME:EEST
DTSTART:20260329T010000
END:DAYLIGHT
BEGIN:STANDARD
TZOFFSETFROM:+0300
TZOFFSETTO:+0200
TZNAME:EET
DTSTART:20261025T010000
END:STANDARD
END:VTIMEZONE
BEGIN:VTIMEZONE
TZID:Europe/Paris
BEGIN:DAYLIGHT
TZOFFSETFROM:+0100
TZOFFSETTO:+0200
TZNAME:CEST
DTSTART:20240331T010000
END:DAYLIGHT
BEGIN:STANDARD
TZOFFSETFROM:+0200
TZOFFSETTO:+0100
TZNAME:CET
DTSTART:20241027T010000
END:STANDARD
BEGIN:DAYLIGHT
TZOFFSETFROM:+0100
TZOFFSETTO:+0200
TZNAME:CEST
DTSTART:20250330T010000
END:DAYLIGHT
BEGIN:STANDARD
TZOFFSETFROM:+0200
TZOFFSETTO:+0100
TZNAME:CET
DTSTART:20251026T010000
END:STANDARD
BEGIN:DAYLIGHT
TZOFFSETFROM:+0100
TZOFFSETTO:+0200
TZNAME:CEST
DTSTART:20260329T010000
END:DAYLIGHT
BEGIN:STANDARD
TZOFFSETFROM:+0200
TZOFFSETTO:+0100
TZNAME:CET
DTSTART:20261025T010000
END:STANDARD
END:VTIMEZONE
BEGIN:VEVENT
DTSTART;TZID=Europe/Helsinki:20251010T100000
DTEND;TZID=Europe/Helsinki:20251212T123000
DTSTAMP:20260425T133135
CREATED:20250908T135854Z
LAST-MODIFIED:20250908T135854Z
UID:8227-1760090400-1765542600@ureka.eu
SUMMARY:Internationalisation for teachers
DESCRIPTION:Are you interested in internationalising your teaching and classroom\, online and/or live\, and curious about how this is being done at other universities of applied sciences? \nThen this course is for you! \nContent: \n\n10th October 2025 – How internationalisation-ready is your programme?\n\nIntroduction to the course. Mapping an internationalized and decolonized curriculum: what is it and why is it important in your context? \n\n31st October 2025 – How internationalisation-ready is your module?\n\nDesigning. Understanding how alignment can be achieved in teaching\, learning\, and assessment in the process of internationalising a module and its learning outcomes. \n\n7th November 2025 – How internationalisation-ready are you?\n\nReflecting. Cultural perspectives and their influence on our teaching. \n\n21st November 2025 – How internationalisation-ready is your classroom?\n\nPedagogy. Identifying strategies methods and tools that can be applied in the classroom. \n\n5th December 2025 – How globally connected are you?\n\nDesign. Virtual or online collaboration (COIL/BIP) – what is it and how can it be integrated in your module? \n\n12th December 2025 – How international is your assessment?\n\nEvaluating. Direct and indirect forms of assessing international and intercultural competences – challenges & opportunities\n \nPractical information:\nThe course will be facilitated online\, on Friday mornings from 10.00 – 12.30 CET\nLanguage: English \nTrainer: Eva Haug (AUAS)\ncontact email: e.m.haug@hva.nl \n\nRegister here
URL:https://ureka.eu/all-events/internationalisation-for-teachers/
LOCATION:online MS Teams
CATEGORIES:Staff Training
END:VEVENT
BEGIN:VEVENT
DTSTART;TZID=Europe/Paris:20251023T100000
DTEND;TZID=Europe/Paris:20251023T120000
DTSTAMP:20260425T133135
CREATED:20250228T142912Z
LAST-MODIFIED:20250415T125017Z
UID:5296-1761213600-1761220800@ureka.eu
SUMMARY:Teams tour
DESCRIPTION:Teams\, we can hardly live without it as it is the most common platform for online collaboration. During the workshop the participants will be taken on a walk through the different components of Teams. \nContent: \nintroduction to Microsoft Teams\, add and manage members\, add and manage channels\, work with messages\, create and reply to chats\, make video and audio calls\, share content (the basics)\, schedule\, edit and cancel meetings\, share content \nLearning outcomes: after the workshop\, the participant will be able to: \n\nadd and manage members\ncreate and manage channels\nwork with chats and announcements\nstart a video call\nschedule and manage meetings\nshare files\n\nPractical information: maximum of 15 participants. \nTrainer Sien Gobbert (HOGENT) \nRegister here
URL:https://ureka.eu/all-events/teams-tour/
LOCATION:online MS Teams
CATEGORIES:Staff Training
END:VEVENT
BEGIN:VEVENT
DTSTART;TZID=Europe/Helsinki:20251023T130000
DTEND;TZID=Europe/Helsinki:20251023T150000
DTSTAMP:20260425T133135
CREATED:20250909T114414Z
LAST-MODIFIED:20250909T114414Z
UID:8231-1761224400-1761231600@ureka.eu
SUMMARY:U!REKA EduForum: VSB  –  Technical University of Ostrava
DESCRIPTION:We cordially invite all employees and students of the doctoral degree at the Local EduForum to participate in the U!REKA activities. \nTopic: U!REKA – how can I join the activities? \nProgramme: \nThe medium of instruction is Czech (apart from the first guest presentation) \n13:00-13:05       Introduction \n13:05-13:25       EduBase \n13:25-13:35       Training Offers\, Dating Platform \n13:35-13:55       COIL \n13:55-14:25       BIP \n14:25-14:45       Microcredentials \n14:45-15:00       Questions and answers \nRegistration
URL:https://ureka.eu/all-events/ureka-eduforum-vsb-technical-university-of-ostrava-2/
LOCATION:online MS Teams
CATEGORIES:Events
ORGANIZER;CN="VSB-TUO":MAILTO:ureka@vsb.cz
END:VEVENT
END:VCALENDAR