BEGIN:VCALENDAR
VERSION:2.0
PRODID:-//U!REKA - ECPv6.15.20//NONSGML v1.0//EN
CALSCALE:GREGORIAN
METHOD:PUBLISH
X-ORIGINAL-URL:https://ureka.eu
X-WR-CALDESC:Events for U!REKA
REFRESH-INTERVAL;VALUE=DURATION:PT1H
X-Robots-Tag:noindex
X-PUBLISHED-TTL:PT1H
BEGIN:VTIMEZONE
TZID:Europe/Helsinki
BEGIN:DAYLIGHT
TZOFFSETFROM:+0200
TZOFFSETTO:+0300
TZNAME:EEST
DTSTART:20250330T010000
END:DAYLIGHT
BEGIN:STANDARD
TZOFFSETFROM:+0300
TZOFFSETTO:+0200
TZNAME:EET
DTSTART:20251026T010000
END:STANDARD
BEGIN:DAYLIGHT
TZOFFSETFROM:+0200
TZOFFSETTO:+0300
TZNAME:EEST
DTSTART:20260329T010000
END:DAYLIGHT
BEGIN:STANDARD
TZOFFSETFROM:+0300
TZOFFSETTO:+0200
TZNAME:EET
DTSTART:20261025T010000
END:STANDARD
BEGIN:DAYLIGHT
TZOFFSETFROM:+0200
TZOFFSETTO:+0300
TZNAME:EEST
DTSTART:20270328T010000
END:DAYLIGHT
BEGIN:STANDARD
TZOFFSETFROM:+0300
TZOFFSETTO:+0200
TZNAME:EET
DTSTART:20271031T010000
END:STANDARD
END:VTIMEZONE
BEGIN:VEVENT
DTSTART;VALUE=DATE:20260511
DTEND;VALUE=DATE:20260622
DTSTAMP:20260422T231108
CREATED:20260331T114836Z
LAST-MODIFIED:20260331T114945Z
UID:12147-1778457600-1782086399@ureka.eu
SUMMARY:Call for nominations: U!REKA Awards
DESCRIPTION:The U!REKA Awards will be presented at the U!REKA Connects 2026 in Lisbon. All members of the U!REKA community are kindly invited to nominate outstanding individuals or teams who have made a significant impact in one (or more) of the following categories during the academic year 2025-2026\, aligning with the three values of U!REKA: co-creation\, inclusion and boldness. \nHow to participate \n\nSubmit your nominations until 11 May 2026.\nYou may nominate individuals (students or staff) or teams. Self-nominations are also allowed!\nThe nominations must be related to inter-institutional collaboration in the U!REKA context.\nThe winners will be selected jointly by the U!REKA Institutional Coordinators.\nThe awards will be presented at the U!REKA Connects 2026 in Lisbon\, on 25 June.\n\nMore information and form for nominations: https://urekaconnects2026.ipl.pt/awards/
URL:https://ureka.eu/all-events/call-for-nominations-ureka-awards/
LOCATION:Polytechnic University of Lisbon\, Lisbon\, Portugal
CATEGORIES:Calls
END:VEVENT
BEGIN:VEVENT
DTSTART;VALUE=DATE:20260518
DTEND;VALUE=DATE:20260523
DTSTAMP:20260422T231108
CREATED:20260226T102811Z
LAST-MODIFIED:20260320T103438Z
UID:11707-1779062400-1779494399@ureka.eu
SUMMARY:International Week @ Frankfurt UAS | Faculty for Social Work and Health
DESCRIPTION:Under the motto “Urban Futures: Health and Social Sustainability\,” the Faculty for Social Work and Health at Frankfurt UAS will welcome guest speakers from universities and organizations from across Africa\, Asia\, Europe and North America during the 33. International Week. The International Week will take place from May 18-22\, 2026 and provides an exciting opportunity to learn more about social work and health care in a global context and to contribute perspectives from U!REKA partners as a guest lecturer. \nAdditional events within an Erasmus Blended Intensive Programme (BIP) “Be the Change – Advancing Urban Sustainability and Health in Metropolitan Regions” will be integrated into the International Week. The BIP includes the international conference and research day “Disaster Risk Reduction in Care and Social Work: Transnational Learning Lab” from May 20-21\, 2026. This is a collaborative event of the TransKat research project (funded by VolkswagenStiftung)\, the U!REKA European University\, and the City of Worms. \nInterested or want to learn more? Find out more on our website or contact Maya Robinson at international@fb4.fra-uas.de. \nThe complete program will be published in April. \nJoin in as a guest lecturer to make global connections and experience Frankfurt! \n 
URL:https://ureka.eu/all-events/international-week-frankfurt-uas-faculty-for-social-work-and-health/
LOCATION:Frankfurt University of Applied Sciences\, Nibelungenplatz 1\, Frankfurt\, 60311\, Germany
CATEGORIES:Events
END:VEVENT
END:VCALENDAR