BEGIN:VCALENDAR
VERSION:2.0
PRODID:-//U!REKA - ECPv6.15.20//NONSGML v1.0//EN
CALSCALE:GREGORIAN
METHOD:PUBLISH
X-ORIGINAL-URL:https://ureka.eu
X-WR-CALDESC:Events for U!REKA
REFRESH-INTERVAL;VALUE=DURATION:PT1H
X-Robots-Tag:noindex
X-PUBLISHED-TTL:PT1H
BEGIN:VTIMEZONE
TZID:Europe/Helsinki
BEGIN:DAYLIGHT
TZOFFSETFROM:+0200
TZOFFSETTO:+0300
TZNAME:EEST
DTSTART:20240331T010000
END:DAYLIGHT
BEGIN:STANDARD
TZOFFSETFROM:+0300
TZOFFSETTO:+0200
TZNAME:EET
DTSTART:20241027T010000
END:STANDARD
BEGIN:DAYLIGHT
TZOFFSETFROM:+0200
TZOFFSETTO:+0300
TZNAME:EEST
DTSTART:20250330T010000
END:DAYLIGHT
BEGIN:STANDARD
TZOFFSETFROM:+0300
TZOFFSETTO:+0200
TZNAME:EET
DTSTART:20251026T010000
END:STANDARD
BEGIN:DAYLIGHT
TZOFFSETFROM:+0200
TZOFFSETTO:+0300
TZNAME:EEST
DTSTART:20260329T010000
END:DAYLIGHT
BEGIN:STANDARD
TZOFFSETFROM:+0300
TZOFFSETTO:+0200
TZNAME:EET
DTSTART:20261025T010000
END:STANDARD
BEGIN:DAYLIGHT
TZOFFSETFROM:+0200
TZOFFSETTO:+0300
TZNAME:EEST
DTSTART:20270328T010000
END:DAYLIGHT
BEGIN:STANDARD
TZOFFSETFROM:+0300
TZOFFSETTO:+0200
TZNAME:EET
DTSTART:20271031T010000
END:STANDARD
END:VTIMEZONE
BEGIN:VEVENT
DTSTART;VALUE=DATE:20260415
DTEND;VALUE=DATE:20260416
DTSTAMP:20260422T133909
CREATED:20260203T130930Z
LAST-MODIFIED:20260203T130930Z
UID:11314-1776211200-1776297599@ureka.eu
SUMMARY:Call for papers: DGWF Annual Conference 2026 | Future Lab Continuing Education: New Scenarios for Lifelong Learning
DESCRIPTION:Under the title “Future Lab Continuing Education” the DGWF Annual Conference 2026 invites participants to develop\, discuss\, and reflect on new scenarios for continuing education. The focus is on the systematic development\, discussion\, and classification of future endeavours that could be significant in the context of continuing education—in terms of content and target groups\, as well as formats\, governance\, framework conditions\, and social impact. \nThe aim is to identify different possible visions of the future and explore their implications for education policy\, academic institutions\, and professional practice\, as well as synergies with undergraduate teaching. What possible\, probable\, and desirable futures will shape the continuing education of tomorrow—and how can we shape them actively today? How could continuing education position itself in different visions of the future? What skills\, structures\, and formats would be conceivable? And how can universities and continuing education institutions make and pave the way for bold and strategically necessary decisions? \nA particular focus will be placed on international university partners – for example\, from European university alliances and other global collaborations\, to open a broader international perspective. What future developments are conceivable in this context? How can we jointly shape an international educational space characterized by openness\, mobility\, digital connectivity\, and shared responsibility for education and research? What role can continuing education play here\, drawing on its strengths in openness\, flexible formats\, diversity\, and didactic innovation? \nMore information: https://dgwf.net/dgwf-annual-conference-2026
URL:https://ureka.eu/all-events/conference-lifelong-learnging/
LOCATION:Frankfurt University of Applied Sciences\, Nibelungenplatz 1\, Frankfurt\, 60311\, Germany
CATEGORIES:Calls
END:VEVENT
BEGIN:VEVENT
DTSTART;VALUE=DATE:20260301
DTEND;VALUE=DATE:20260302
DTSTAMP:20260422T133909
CREATED:20260121T144239Z
LAST-MODIFIED:20260203T131022Z
UID:11075-1772323200-1772409599@ureka.eu
SUMMARY:Call for participation: International Week@Frankfurt UAS | Faculty of Social work & health
DESCRIPTION:Join us for the 33rd International Week! \nLecturers and practitioners in social work and healthcare from partner institutions of Frankfurt UAS are warmly invited to take part in the 33rd International Week (IW) from May 18-22\, 2026 in Frankfurt. \nThe IWs aim to incorporate international perspectives into teaching at Frankfurt UAS and provide an opportunity to our guests to make international connections\, learn more about the university\, discover the city of Frankfurt and explore new ways to cooperate! \nAbout the event \nDuring this week\, guest lectures are scheduled into regular courses\, which are open to all participants. A Blended Intensive Program (BIP) on “Urban Health and Sustainability” will also be running during this week\, into which guests from healthcare will be incorporated. Additional activities are offered throughout the week to connect with one another and explore Frankfurt. \nGuests are asked to contribute lectures/ presentations (approx.1 hour\, + 30 min. for discussion) from their area of expertise (broadly related to the overall theme)\, which will be integrated into teaching or the BIP during the week. The primary working language is English\, though we will strive to find a solution in the case of a language barrier. \nFormat & Funding \nThe event will be held in person\, but it is also possible to contribute online if travel to Frankfurt is not possible. Participants from European universities are asked to apply for Erasmus+ funding at their home institutions\, as travel costs are not covered by the Frankfurt UAS. Participation is free of charge. \nMore information \nRegistration \nTo register\, please contact Maya Robinson at international@fb4.fra-uas.de by March 1\, 2026. \nPlease let us know if you have any questions or would like more information.
URL:https://ureka.eu/all-events/call-for-participation-international-weekfrankfurt-uas-faculty-of-social-work-health/
LOCATION:Frankfurt University of Applied Sciences\, Nibelungenplatz 1\, Frankfurt\, 60311\, Germany
CATEGORIES:Calls
END:VEVENT
BEGIN:VEVENT
DTSTART;VALUE=DATE:20260301
DTEND;VALUE=DATE:20260302
DTSTAMP:20260422T133909
CREATED:20260120T115350Z
LAST-MODIFIED:20260219T134641Z
UID:11067-1772323200-1772409599@ureka.eu
SUMMARY:Call for proposals: U!REKA Connects 2026
DESCRIPTION:The U!REKA Connects 2026 will take place in Lisbon from 23 to 25 June. The call for proposals is open from 1 January to 1 March 2026. \n  \nBuilding on the U!REKA Alliance’s mission to shape future-proof urban professionals who will accelerate the transition towards climate-neutral and smart cities\, we invite proposals that demonstrate our commitment to sustainable\, human\, inclusive\, and future-proof transformations through challenge-based and collaborative learning.  \n  \nThemes \n\n\n\nCollaborative and challenge-based methodologies for a sustainable and digital future\nCo-creating climate-neutral and smart cities\nInclusive universities\nU!REKA community voices: experiences\, projects and new ideas\n\n  \n\n\nSubmission types \n\n\n\nU!TALKS Short oral presentation (5 min) \nU!COM Oral presentation (12 min)\nU!WKS Workshops (60 min)\nU!POSTER Printed posters\nPDF file: A3 (vertical) physical display in Lisbon\nU!POSTER ONLINE Web published posters\nPDF file: 1920 x 1080 px (horizontal) + 3 min video presentation (horizontal)
URL:https://ureka.eu/all-events/cfp_urekaconnects2026/
LOCATION:Polytechnic University of Lisbon\, Lisbon\, Portugal
CATEGORIES:Calls
END:VEVENT
BEGIN:VEVENT
DTSTART;VALUE=DATE:20260215
DTEND;VALUE=DATE:20260216
DTSTAMP:20260422T133909
CREATED:20260109T124622Z
LAST-MODIFIED:20260109T124622Z
UID:10938-1771113600-1771199999@ureka.eu
SUMMARY:Call for application: Libraries for a sustainable future | Erasmus+ BIP for staff
DESCRIPTION:Join the Erasmus+ Blended Intensive Programme (BIP) “Library for a Sustainable Future” organized by Haaga-Helia UAS in collaboration with Metropolia UAS and Laurea UAS. \nThe immersive professional week takes you to Helsinki to explore the future of libraries and information services together with colleagues from three different European University Alliances – Ulysseus\, U!REKA and PIONEER. \nIn this exciting programme\, we explore the current topics and future challenges by diving into the themes of artificial intelligence\, open science\, and sustainability. Participants will visit four different campuses and several iconic libraries in Helsinki. \nBIP: Libraries for a Sustainable Future \nPhysical part in Helsinki: 1-5 June 2026 \nVirtual part: 5 May 2026 at 9-11 CET \nWebsite \nGo to BIP website and learn more about the programme. \nRegistration \nRegistration until 15 February 2026. U!REKA affiliates\, please register via this link\, preferably before the end of January. \nErasmus+ Mobility Documents \nHaaga-Helia UAS serves as the official host institution and will take care of all Erasmus+ Staff Mobility Agreements. After the registration\, participants will receive instructions for Erasmus+ formalities. \nMore information \nFor more information\, contact: \n\nHaaga-Helia International Services: Hanna Mikkonen\, hanna.mikkonen@haaga-helia.fi\nMetropolia International Services: Terhi Topi\, terhi.topi@metropolia.fi 
URL:https://ureka.eu/all-events/call-for-application-libraries-for-a-sustainable-future-erasmus-bip-for-staff/
LOCATION:Helsinki\, Helsinki\, Finland
CATEGORIES:Calls
END:VEVENT
BEGIN:VEVENT
DTSTART;VALUE=DATE:20260125
DTEND;VALUE=DATE:20260126
DTSTAMP:20260422T133909
CREATED:20251222T110642Z
LAST-MODIFIED:20251222T111015Z
UID:10830-1769299200-1769385599@ureka.eu
SUMMARY:Metropolia's Business School invites visiting lecturers to International Project Week 2026
DESCRIPTION:Join us for International Project Week 2026 as a visiting lecturer! \nContribute your expertise through a keynote-style lecture\, bring a real-life sustainability case and coach international student teams working on ethical and CSR challenges. \nWe are also very happy to receive accompanying students from U!REKA partner institutions. \nDate: \n4th-8th May 2026 \nWhat to expect: \n\nEngage with Finnish & international Bachelor students\nCollaborate with like-minded academics from around the world\nDevelop joint initiatives and cross-disciplinary ideas\nExperience Finland and the Helsinki region through social activities\n\n  \nRegistration is open until 25th January 2026 \nLearn more & apply: https://www.metropolia.fi/en/about-us/events/IPW2026
URL:https://ureka.eu/all-events/metropolias-business-school-invites-visiting-lecturers-to-international-project-week-2026/
LOCATION:Metropolia UAS\, Myyrmäki Campus\, Vantaa\, Leiritie 1\, 01600\, Finland
CATEGORIES:Calls
END:VEVENT
BEGIN:VEVENT
DTSTART;VALUE=DATE:20251130
DTEND;VALUE=DATE:20251201
DTSTAMP:20260422T133909
CREATED:20251014T131019Z
LAST-MODIFIED:20251020T095320Z
UID:8497-1764460800-1764547199@ureka.eu
SUMMARY:Week Without Border HOGENT: call for proposals
DESCRIPTION:During the Week Without Borders\, the HOGENT educational programmes and research centres will design experimental activities\, that allow HOGENT students to engage with societal challenges in collaboration with partners from the field\, the broader community and international organisations. We warmly encourage you to contribute to these activities. \nAnything is possible! Think of (guest)lectures\, workshops\, social activities\, debate\, business game\, hackathon\, project work\, and more. You can collaborate with colleagues from our educational programmes and/or research centres. \nHow can you contribute to a student activity?\n\nOption 1 – you already have a contact at HOGENT: Let them know you are interested and start planning your activity together.\nOption 2 – you don’t have any contacts at HOGENT yet: Mail to io@hogent.be and we will help facilitate the match-making process.\n\nThe registration deadline for activities is 30 November 2025\, so we can start assembling the student programme. \nhttps://www.hogent.be/en/week-without-borders/
URL:https://ureka.eu/all-events/week-without-border-hogent-call-for-proposals-deadline-30-11/
CATEGORIES:Calls
END:VEVENT
BEGIN:VEVENT
DTSTART;VALUE=DATE:20251115
DTEND;VALUE=DATE:20251116
DTSTAMP:20260422T133909
CREATED:20251020T095443Z
LAST-MODIFIED:20251020T095549Z
UID:8685-1763164800-1763251199@ureka.eu
SUMMARY:Urban Circular Hack(athon) 2025: call for applications
DESCRIPTION:How can we reduce waste in the sense of a sustainable circular economy? And how can we create sustainable systems in which materials can be reused and resources recycled? \nFrankfurt University of Applied Sciences (Frankfurt UAS) invites students and researchers of all U!REKA partner universities as well as interested stakeholders from local industries\, cities and the general society to the creative and society-oriented UrbanCircularHack(athon). Participants will jointly develop innovative approaches and solutions to real-world challenges and thus actively participate in shaping a more sustainable future. \nThe UrbanCircularHack(athon) takes place at Frankfurt UAS on November 24 to 25\, 2025. \nThe event will be held in English. \nParticipation is free of charge. \nRegistration: Save your spot! (Deadline November 15\, 2025)
URL:https://ureka.eu/all-events/urban-circular-hackathon-2025-call-for-applications/
LOCATION:Frankfurt University of Applied Sciences\, Nibelungenplatz 1\, Frankfurt\, 60311\, Germany
CATEGORIES:Calls
ATTACH;FMTTYPE=image/png:https://ureka.eu/wp-content/uploads/2024/11/change-agents-2024-outside_photo-dewi-lagerberg.png
END:VEVENT
BEGIN:VEVENT
DTSTART;VALUE=DATE:20251115
DTEND;VALUE=DATE:20251116
DTSTAMP:20260422T133909
CREATED:20251019T095633Z
LAST-MODIFIED:20251020T105457Z
UID:8688-1763164800-1763251199@ureka.eu
SUMMARY:ISCAL International Days 2026: call for applications
DESCRIPTION:The ISCAL International Days 2026 will consist of a mix of research conferences\, round tables\, discussion groups\, and lectures to be held by the participants in their respective field. \nThe event aims to be a platform for academics from different countries and disciplines within the social sciences\, such as law\, management\, accountancy\, business administration\, finance\, and international relations\, to share their teaching and research interests\, good practices\, and to network. \nA full programme with activities will be circulated soon. \nParticipants can engage by: \n\nIntroducing their home institution on a pitch format;\nDelivering a paper at the International Conference;\nDelivering an open lecture on a topic of choice;\nParticipating in workshops and roundtables.\n\n  \nIntent of participation | Register now until 15 November 2025:\nhttps://forms.office.com/e/k0nKiYwtyt \n  \nFurther information:\nThe mobility can be funded primarily through Erasmus+\, but national or institutional programs may also be available\, depending on your home university. Please contact your Erasmus+/ alternative funding coordinator for more information.
URL:https://ureka.eu/all-events/iscal-international-days-2026-call-for-application/
LOCATION:Polytechnic University of Lisbon\, Lisbon\, Portugal
CATEGORIES:Calls
ORGANIZER;CN="ISCAL - Polytechnic University of Lisbon":MAILTO:jpassis@iscal.ipl.pt
END:VEVENT
BEGIN:VEVENT
DTSTART;VALUE=DATE:20251103
DTEND;VALUE=DATE:20251104
DTSTAMP:20260422T133909
CREATED:20251023T065722Z
LAST-MODIFIED:20251023T065945Z
UID:8824-1762128000-1762214399@ureka.eu
SUMMARY:EAIE 2026: call for proposals
DESCRIPTION:Next year\, EAIE organizers tune into the rhythm of revolution – a call to question\, collaborate and create lasting change. Set against the backdrop of Glasgow\, a city that lives and breathes reinvention\, this conference invites bold thinkers and changemakers to step forward and shape the future of our field. \nThe call for proposals is now open. Submit your proposal by 03 November\, 17:00 CET. \nRegistration link: https://eaie2026.abstractserver.com/proposal/#/login
URL:https://ureka.eu/all-events/eaie-2026-call-for-proposals/
LOCATION:Scottish Event Campus\, Glasgow\, United Kingdom
CATEGORIES:Calls
END:VEVENT
END:VCALENDAR