BEGIN:VCALENDAR
VERSION:2.0
PRODID:-//U!REKA - ECPv6.15.20//NONSGML v1.0//EN
CALSCALE:GREGORIAN
METHOD:PUBLISH
X-ORIGINAL-URL:https://ureka.eu
X-WR-CALDESC:Events for U!REKA
REFRESH-INTERVAL;VALUE=DURATION:PT1H
X-Robots-Tag:noindex
X-PUBLISHED-TTL:PT1H
BEGIN:VTIMEZONE
TZID:Europe/Helsinki
BEGIN:DAYLIGHT
TZOFFSETFROM:+0200
TZOFFSETTO:+0300
TZNAME:EEST
DTSTART:20250330T010000
END:DAYLIGHT
BEGIN:STANDARD
TZOFFSETFROM:+0300
TZOFFSETTO:+0200
TZNAME:EET
DTSTART:20251026T010000
END:STANDARD
BEGIN:DAYLIGHT
TZOFFSETFROM:+0200
TZOFFSETTO:+0300
TZNAME:EEST
DTSTART:20260329T010000
END:DAYLIGHT
BEGIN:STANDARD
TZOFFSETFROM:+0300
TZOFFSETTO:+0200
TZNAME:EET
DTSTART:20261025T010000
END:STANDARD
BEGIN:DAYLIGHT
TZOFFSETFROM:+0200
TZOFFSETTO:+0300
TZNAME:EEST
DTSTART:20270328T010000
END:DAYLIGHT
BEGIN:STANDARD
TZOFFSETFROM:+0300
TZOFFSETTO:+0200
TZNAME:EET
DTSTART:20271031T010000
END:STANDARD
END:VTIMEZONE
BEGIN:VEVENT
DTSTART;VALUE=DATE:20260511
DTEND;VALUE=DATE:20260622
DTSTAMP:20260423T005829
CREATED:20260331T114836Z
LAST-MODIFIED:20260331T114945Z
UID:12147-1778457600-1782086399@ureka.eu
SUMMARY:Call for nominations: U!REKA Awards
DESCRIPTION:The U!REKA Awards will be presented at the U!REKA Connects 2026 in Lisbon. All members of the U!REKA community are kindly invited to nominate outstanding individuals or teams who have made a significant impact in one (or more) of the following categories during the academic year 2025-2026\, aligning with the three values of U!REKA: co-creation\, inclusion and boldness. \nHow to participate \n\nSubmit your nominations until 11 May 2026.\nYou may nominate individuals (students or staff) or teams. Self-nominations are also allowed!\nThe nominations must be related to inter-institutional collaboration in the U!REKA context.\nThe winners will be selected jointly by the U!REKA Institutional Coordinators.\nThe awards will be presented at the U!REKA Connects 2026 in Lisbon\, on 25 June.\n\nMore information and form for nominations: https://urekaconnects2026.ipl.pt/awards/
URL:https://ureka.eu/all-events/call-for-nominations-ureka-awards/
LOCATION:Polytechnic University of Lisbon\, Lisbon\, Portugal
CATEGORIES:Calls
END:VEVENT
BEGIN:VEVENT
DTSTART;TZID=Europe/Helsinki:20260528T100000
DTEND;TZID=Europe/Helsinki:20260528T100000
DTSTAMP:20260423T005829
CREATED:20251215T154158Z
LAST-MODIFIED:20251215T161050Z
UID:10625-1779962400-1779962400@ureka.eu
SUMMARY:COIL and BIP design course (3 sessions)
DESCRIPTION:Content: \nCOIL and BIP Design is a 3 week course for teachers and their international partners to design their online collaboration project. \nTraining dates: 28 May\, 4 June\, 11 June\, 10-12h \nTrainer: Ava HAUG (Amsterdam UAS) \nThe following topics are facilitated: \n\nInternationalising your learning outcomes for online collaboration\nIcebreakers and the importance of online social presence – Collaborative activities\nReflection of the intercultural learning process\nAssessment and evaluation of student learning\nChoosing the educational technology to support your design\nGetting students ready for COIL\nFacilitating a COIL as international colleagues\nBIP: designing complementary online and on-site activities\n\nLearning outcomes: \nUpon completion of the workshop\, the participants will: \n\nbe able to internationalise their learning outcomes and develop aligned assessment for student learning\nbe able to develop and facilitate online\, international collaborative activities and choose the appropriate technology\nbe able to prepare their students for the experience and address motivation for intercultural collaboration\nhave a completed COIL Project Plan that describes their project and is ready for implementation\n(specific to BIP) have decided how the online engagement and the on-site activities complement each other and support the project learning objectives\n\nREGISTER HERE
URL:https://ureka.eu/all-events/coil-and-bip-design-course-3-sessions/
LOCATION:online MS Teams
CATEGORIES:Staff Training
ORGANIZER;CN="Amsterdam University of Applied Sciences":MAILTO:m.t.van.wees@hva.nl
END:VEVENT
BEGIN:VEVENT
DTSTART;VALUE=DATE:20260601
DTEND;VALUE=DATE:20260606
DTSTAMP:20260423T005829
CREATED:20260109T075812Z
LAST-MODIFIED:20260109T080234Z
UID:10933-1780272000-1780703999@ureka.eu
SUMMARY:Erasmus+ BIP for staff: Libraries for a Sustainable Future
DESCRIPTION:Join the Erasmus+ Blended Intensive Programme (BIP) “Library for a Sustainable Future” organized by Haaga-Helia UAS in collaboration with Metropolia UAS and Laurea UAS. \nThe immersive professional week takes you to Helsinki to explore the future of libraries and information services together with colleagues from three different European University Alliances – Ulysseus\, U!REKA and PIONEER. \nIn this exciting programme\, we explore the current topics and future challenges by diving into the themes of artificial intelligence\, open science\, and sustainability. Participants will visit four different campuses and several iconic libraries in Helsinki. \nBIP: Libraries for a Sustainable Future \nPhysical part in Helsinki: 1-5 June 2026 \nVirtual part: 5 May 2026 at 9-11 CET \nWebsite \nGo to BIP website and learn more about the programme. \nRegistration \nRegistration until 15 February 2026. U!REKA affiliates\, please register via this link\, preferably before the end of January. \nErasmus+ Mobility Documents \nHaaga-Helia UAS serves as the official host institution and will take care of all Erasmus+ Staff Mobility Agreements. After the registration\, participants will receive instructions for Erasmus+ formalities. \nMore information \nFor more information\, contact: \n\nHaaga-Helia International Services: Hanna Mikkonen\, hanna.mikkonen@haaga-helia.fi\nMetropolia International Services: Terhi Topi\, terhi.topi@metropolia.fi 
URL:https://ureka.eu/all-events/erasmus-bip-for-staff-libraries-for-a-sustainable-future/
LOCATION:Helsinki\, Helsinki\, Finland
CATEGORIES:Staff Training
END:VEVENT
BEGIN:VEVENT
DTSTART;VALUE=DATE:20260623
DTEND;VALUE=DATE:20260626
DTSTAMP:20260423T005829
CREATED:20251031T100803Z
LAST-MODIFIED:20260407T133407Z
UID:8904-1782172800-1782431999@ureka.eu
SUMMARY:U!REKA Connects 2026
DESCRIPTION:U!REKA hosts an annual in-person networking event\, held each year by a different partner institution. \nThe U!REKA Connects 2026 will take place in Lisbon from 23 to 25 June. This flagship moment brings the alliance together to reinforce existing collaborations\, spark new joint initiatives\, and exchange expertise through interactive workshops\, presentations and other collaborative formats. \nYou can take part in the event by presenting a paper\, poster or workshop — or simply by attending and engaging in the discussions. \n  \nConnects Themes\n1. Collaborative and challenge-based methodologies for a sustainable and digital future \n\n2. Co-creating climate-neutral and smart cities \n3. Inclusive universities \n\n4. U!REKA community voices: experiences\, projects and new ideas \n\n  \nPlease\, register here until 17 May. \nMore information about the event available here.
URL:https://ureka.eu/all-events/ureka-connects-2026/
LOCATION:Polytechnic University of Lisbon\, Lisbon\, Portugal
CATEGORIES:Events
END:VEVENT
END:VCALENDAR