BEGIN:VCALENDAR
VERSION:2.0
PRODID:-//U!REKA - ECPv6.15.20//NONSGML v1.0//EN
CALSCALE:GREGORIAN
METHOD:PUBLISH
X-WR-CALNAME:U!REKA
X-ORIGINAL-URL:https://ureka.eu
X-WR-CALDESC:Events for U!REKA
REFRESH-INTERVAL;VALUE=DURATION:PT1H
X-Robots-Tag:noindex
X-PUBLISHED-TTL:PT1H
BEGIN:VTIMEZONE
TZID:Europe/Helsinki
BEGIN:DAYLIGHT
TZOFFSETFROM:+0200
TZOFFSETTO:+0300
TZNAME:EEST
DTSTART:20240331T010000
END:DAYLIGHT
BEGIN:STANDARD
TZOFFSETFROM:+0300
TZOFFSETTO:+0200
TZNAME:EET
DTSTART:20241027T010000
END:STANDARD
BEGIN:DAYLIGHT
TZOFFSETFROM:+0200
TZOFFSETTO:+0300
TZNAME:EEST
DTSTART:20250330T010000
END:DAYLIGHT
BEGIN:STANDARD
TZOFFSETFROM:+0300
TZOFFSETTO:+0200
TZNAME:EET
DTSTART:20251026T010000
END:STANDARD
BEGIN:DAYLIGHT
TZOFFSETFROM:+0200
TZOFFSETTO:+0300
TZNAME:EEST
DTSTART:20260329T010000
END:DAYLIGHT
BEGIN:STANDARD
TZOFFSETFROM:+0300
TZOFFSETTO:+0200
TZNAME:EET
DTSTART:20261025T010000
END:STANDARD
END:VTIMEZONE
BEGIN:VTIMEZONE
TZID:UTC
BEGIN:STANDARD
TZOFFSETFROM:+0000
TZOFFSETTO:+0000
TZNAME:UTC
DTSTART:20240101T000000
END:STANDARD
END:VTIMEZONE
BEGIN:VTIMEZONE
TZID:Europe/Paris
BEGIN:DAYLIGHT
TZOFFSETFROM:+0100
TZOFFSETTO:+0200
TZNAME:CEST
DTSTART:20240331T010000
END:DAYLIGHT
BEGIN:STANDARD
TZOFFSETFROM:+0200
TZOFFSETTO:+0100
TZNAME:CET
DTSTART:20241027T010000
END:STANDARD
BEGIN:DAYLIGHT
TZOFFSETFROM:+0100
TZOFFSETTO:+0200
TZNAME:CEST
DTSTART:20250330T010000
END:DAYLIGHT
BEGIN:STANDARD
TZOFFSETFROM:+0200
TZOFFSETTO:+0100
TZNAME:CET
DTSTART:20251026T010000
END:STANDARD
BEGIN:DAYLIGHT
TZOFFSETFROM:+0100
TZOFFSETTO:+0200
TZNAME:CEST
DTSTART:20260329T010000
END:DAYLIGHT
BEGIN:STANDARD
TZOFFSETFROM:+0200
TZOFFSETTO:+0100
TZNAME:CET
DTSTART:20261025T010000
END:STANDARD
END:VTIMEZONE
BEGIN:VEVENT
DTSTART;TZID=Europe/Helsinki:20250328T103000
DTEND;TZID=Europe/Helsinki:20250328T130000
DTSTAMP:20260423T005248
CREATED:20250228T141619Z
LAST-MODIFIED:20250307T100845Z
UID:5277-1743157800-1743166800@ureka.eu
SUMMARY:Multi-class: social class\, culture and first-generation students in higher education
DESCRIPTION:Multi-class: social class\, culture and first-generation students in higher education (28/03/2025: 11.30h – 13:00h\, 90 minutes\, on campus: HOGENT) – trainer: David Van Bunder (HOGENT) \nRegistration link: International Days – Hogeschool Gent \nThis session is based on two research tracks we have worked on over the past few years. On the one hand\, the Multiclass project\, which focused on making multicultural classrooms in higher education more inclusive. On the other hand\, we will incorporate results from our research on first-generation students—students whose parents did not obtain a higher education degree. We aim to offer insight into how social class influences culture(s) of students in higher education and how this might increase social inequalities instead of reducing them. \nLearning outcomes: \nParticipants gain insight into how social class influences culture(s) of students in higher education and how this might increase social inequalities instead of reducing them. \nPractical information: \nMaximum of 30 participants.
URL:https://ureka.eu/all-events/multi-class-social-class-culture-and-first-generation-students-in-higher-education/
CATEGORIES:Staff Training
END:VEVENT
BEGIN:VEVENT
DTSTART;TZID=Europe/Helsinki:20250328T103000
DTEND;TZID=Europe/Helsinki:20250328T130000
DTSTAMP:20260423T005248
CREATED:20250228T141257Z
LAST-MODIFIED:20250228T141257Z
UID:5273-1743157800-1743166800@ureka.eu
SUMMARY:Creating animations with Moovly
DESCRIPTION:Creating animations with Moovly (28/03/2025: 11.30h – 13:00h\, 90 minutes\, on campus: HOGENT) – trainer: Sara Van Damme (HOGENT) \nRegistration link: International Days – Hogeschool Gent \nWant to create your own animation but don’t know where to start? With Moovly\, you can easily bring your ideas to life. Discover the basics and take your first steps in this hands-on workshop! \nLearning outcomes: \nLearn the basic features of Moovly. \nCreate your first short animation. \nPractical information: \nBring your laptop to try out Moovly right away. \nMaximum of 15 participants.
URL:https://ureka.eu/all-events/creating-animations-with-moovly/
CATEGORIES:Staff Training
END:VEVENT
BEGIN:VEVENT
DTSTART;TZID=Europe/Helsinki:20250328T093000
DTEND;TZID=Europe/Helsinki:20250328T110000
DTSTAMP:20260423T005248
CREATED:20250228T141447Z
LAST-MODIFIED:20250228T141447Z
UID:5275-1743154200-1743159600@ureka.eu
SUMMARY:Communication skills in multicultural environments
DESCRIPTION:Communication skills in multicultural environments \n(28/03/2025 : 9.30h – 11.00h\, 90 minutes\, on campus: HOGENT) – trainer: Assoc. Prof. Dr. İrem Özgören Kınlı (Izmir Katip Çelebi University\, Turkey) \nRegistration link: International Days – Hogeschool Gent \nEffective communication in multicultural academic settings requires understanding diverse communication styles\, cultural nuances\, and strategies for overcoming potential barriers. This workshop will explore key communication theories\, including high-context vs. low-context cultures\, verbal and nonverbal communication differences\, and strategies for fostering inclusive communication. The session will consist of one hour of theoretical training and 30 minutes of interactive exercises to apply key concepts in practice. \nLearning outcomes: \nBy the end of this workshop\, participants will be able to: \nIdentify and analyse the cultural differences in communication styles and their impact on academic interactions. \nImplement strategies to improve communication effectiveness in multicultural environments\, emphasising inclusive language and awareness of nonverbal cues. \nDevelop effective strategies to promote intercultural dialogue and collaboration in educational settings. \nPractical information: \nMaximum of 30 participants.
URL:https://ureka.eu/all-events/communication-skills-in-multicultural-environments/
CATEGORIES:Staff Training
END:VEVENT
BEGIN:VEVENT
DTSTART;TZID=Europe/Helsinki:20250328T093000
DTEND;TZID=Europe/Helsinki:20250328T110000
DTSTAMP:20260423T005248
CREATED:20250228T141138Z
LAST-MODIFIED:20250228T141138Z
UID:5271-1743154200-1743159600@ureka.eu
SUMMARY:Multimedia Carousel
DESCRIPTION:(28/03/2025: 9:30h – 11.00h\, 90 minutes\, on campus: HOGENT) – trainer: multimedia team HOGENT \nRegistration link: International Days – Hogeschool Gent \nCurious about the support HOGENT offers to its teachers to create audiovisual lesson topics? Take a walk on the multimedia trail with stops at the podcast corner\, the camera arsenal and the recording studios. \nLearning outcomes: \nParticipants can use the material that was demonstrated themselves. \nParticipants can implement a similar concept in their home school. \nPractical information: \nMaximum of 20 participants (teaching staff).
URL:https://ureka.eu/all-events/multimedia-carousel/
CATEGORIES:Staff Training
END:VEVENT
BEGIN:VEVENT
DTSTART;TZID=UTC:20250327T090000
DTEND;TZID=UTC:20250327T190000
DTSTAMP:20260423T005248
CREATED:20241216T052551Z
LAST-MODIFIED:20250228T144237Z
UID:3338-1743066000-1743102000@ureka.eu
SUMMARY:Design Thinking in higher education meeting Ghent
DESCRIPTION:You are invited to contribute to the international meeting ‘Design Thinking in higher education’\, which takes place on 27 March 2025\, at HOGENT University of Applied Sciences and Arts. \nCall for contributions (deadline Dec 10). \nDesign thinking in higher education: call for contributions. – Hogeschool Gent \nPlease see the HoGent website for more information. \nTimeline\n10 December 2024: submission abstracts\n20 January 2025: acceptance notification\n27 March 2025: Meeting Day
URL:https://ureka.eu/all-events/design-thinking-in-higher-education-meeting-ghent/
CATEGORIES:Events
ATTACH;FMTTYPE=image/jpeg:https://ureka.eu/wp-content/uploads/2024/11/design_thinking_in_hig_ed_hogent.jpg
END:VEVENT
BEGIN:VEVENT
DTSTART;TZID=Europe/Helsinki:20250327T083000
DTEND;TZID=Europe/Helsinki:20250327T163000
DTSTAMP:20260423T005248
CREATED:20250228T141010Z
LAST-MODIFIED:20250228T141010Z
UID:5269-1743064200-1743093000@ureka.eu
SUMMARY:Design thinking in higher education
DESCRIPTION:27/03/2025 \n8.30h – 16.30h\, 8 hours \non campus: HOGENT \n‘Design thinking in business and entrepreneurship’ is the central theme of the international summit on 27 March 2025\, that will take place at HOGENT University of Applied Sciences and Arts. This international meeting\, is a collaboration between HOGENT\, Amsterdam UAS\, Erasmus University of Applied Sciences Brussels\, and Idea+. \nMore info and registration: \nInternational summit on design thinking in business and entrepreneurship. – Hogeschool Gent
URL:https://ureka.eu/all-events/design-thinking-in-higher-education/
CATEGORIES:Staff Training
END:VEVENT
BEGIN:VEVENT
DTSTART;TZID=Europe/Paris:20250326T100000
DTEND;TZID=Europe/Paris:20250326T113000
DTSTAMP:20260423T005248
CREATED:20250228T143432Z
LAST-MODIFIED:20250303T120448Z
UID:5304-1742983200-1742988600@ureka.eu
SUMMARY:Train-the-trainer: Internationalisation of the curriculum course
DESCRIPTION:This is a 6-session training course : 5/03\, 12/03\, 19/03\, 26/03\, 2/04 and 9/04/2025 (15 hours in total) + 1 training during U!REKA connects in Helsinki \nContent: \nTrain-the-Trainer Internationalisation of the Curriculum (IoC) is a course to prepare trainers to facilitate the IoC for lecturers course. The TTT will take place in the spring semester 2025\, and the IoC course will be facilitated in the fall of 2025. The aim of the TTT is to empower trainers to engage with the content\, become experts in this topic and teach lecturers to internationalise their curriculum. We’re hoping to create a team of trainers representing the various U!reka perspectives. \nThe course consists of the 6 topics of the (existing) IoC course: \n\nInternationalisation on programme level\nInternationalisation on course level (learning outcomes)\nIntercultural awareness of the lecturer (ICC for lecturers)\nInternationalisation in the classroom (pedagogy)\nOnline international collaboration (COIL/virtual exchange)\nAssessment of internationalisation\n\nLearning outcomes: upon completion of the course\, the participants will: – be experts in the topic of curriculum internationalisation – be able to facilitate (one of) the course modules – be ambassadors for IoC in their respective institutions \nMax. 25 participants \nTrainer Eva Haug (Amsterdam UAS) \nRegister here
URL:https://ureka.eu/all-events/train-the-trainer-internationalisation-of-the-curriculum-course/
LOCATION:online MS Teams
CATEGORIES:Staff Training
END:VEVENT
BEGIN:VEVENT
DTSTART;VALUE=DATE:20250324
DTEND;VALUE=DATE:20250329
DTSTAMP:20260423T005248
CREATED:20241216T052044Z
LAST-MODIFIED:20250304T104437Z
UID:3336-1742774400-1743206399@ureka.eu
SUMMARY:HOGENT International Days
DESCRIPTION:HOGENT\, partner of the U!REKA European University\, organizes its yearly International Days from 24 to 28 March 2025 in Ghent (Belgium). \nMore information on the website of HOGENT.
URL:https://ureka.eu/all-events/hogent-international-days/
CATEGORIES:Events
ATTACH;FMTTYPE=image/jpeg:https://ureka.eu/wp-content/uploads/2024/11/banner-ai-hogent.jpg
END:VEVENT
BEGIN:VEVENT
DTSTART;TZID=UTC:20250320T140000
DTEND;TZID=UTC:20250320T150000
DTSTAMP:20260423T005248
CREATED:20250113T110654Z
LAST-MODIFIED:20250228T144247Z
UID:4455-1742479200-1742482800@ureka.eu
SUMMARY:Let's Share Meeting
DESCRIPTION:The alliance organises monthly Let’s share meetings that take a quick look at recent activities and welcome both old and new participants to learn about the alliance and engage with it. These meetings are held online\, and they are open for anyone interested. \nThe next Let’s share meeting will be on 20 March at 14:00 – 15:00 (CEST). \nEvent agenda: \n\nWelcoming words\nGreetings from working packages\nLet’s share ideas!\nQ&A\n\nPlease join through the Microsoft Teams link.
URL:https://ureka.eu/all-events/lets-share-meeting/
CATEGORIES:Events
ATTACH;FMTTYPE=image/jpeg:https://ureka.eu/wp-content/uploads/2024/11/ureka_debates_.jpg
END:VEVENT
BEGIN:VEVENT
DTSTART;TZID=Europe/Paris:20250319T100000
DTEND;TZID=Europe/Paris:20250319T123000
DTSTAMP:20260423T005248
CREATED:20250228T144850Z
LAST-MODIFIED:20250303T120654Z
UID:5320-1742378400-1742387400@ureka.eu
SUMMARY:Train-the-trainer: Internationalisation of the curriculum course
DESCRIPTION:This is a 6-session training course : 5/03\, 12/03\, 19/03\, 26/03\, 2/04 and 9/04/2025 (15 hours in total) + 1 training during U!REKA connects in Helsinki \nContent: \nTrain-the-Trainer Internationalisation of the Curriculum (IoC) is a course to prepare trainers to facilitate the IoC for lecturers course. The TTT will take place in the spring semester 2025\, and the IoC course will be facilitated in the fall of 2025. The aim of the TTT is to empower trainers to engage with the content\, become experts in this topic and teach lecturers to internationalise their curriculum. We’re hoping to create a team of trainers representing the various U!reka perspectives. \nThe course consists of the 6 topics of the (existing) IoC course: \n\nInternationalisation on programme level\nInternationalisation on course level (learning outcomes)\nIntercultural awareness of the lecturer (ICC for lecturers)\nInternationalisation in the classroom (pedagogy)\nOnline international collaboration (COIL/virtual exchange)\nAssessment of internationalisation\n\nLearning outcomes: upon completion of the course\, the participants will: – be experts in the topic of curriculum internationalisation – be able to facilitate (one of) the course modules – be ambassadors for IoC in their respective institutions \nMax. 25 participants \nTrainer Eva Haug (Amsterdam UAS) \nRegister here \nMax. 25 participants
URL:https://ureka.eu/all-events/train-the-trainer-2/
LOCATION:online MS Teams
CATEGORIES:Staff Training
END:VEVENT
BEGIN:VEVENT
DTSTART;VALUE=DATE:20250318
DTEND;VALUE=DATE:20250320
DTSTAMP:20260423T005248
CREATED:20250219T085925Z
LAST-MODIFIED:20250228T144251Z
UID:5215-1742256000-1742428799@ureka.eu
SUMMARY:Value-Based Finance Conference
DESCRIPTION:The Values-Based Finance Conference will explore several topics related to sustainable banking and finance\, aiming to bring together leading researchers and practitioners to discuss innovative ideas and recent advancements in the field. It is organized into two main components: the Academic Sessions and the plenary session (Symposium). During the Academic Sessions (open only for researchers)\, participants will present and discuss their working papers\, fostering scholarly exchange and collaboration. The Symposium (open for researchers and professionals) will feature industry professionals who will address current issues and developments related to sustainable banking\, small and medium-sized enterprises (SMEs)\, and finance. \nWe invite researchers and professionals working in the fields of sustainable banking\, finance\, and related areas to participate in our conference. Researchers are encouraged to submit their work for the academic sessions\, while professionals are welcome to take part in the plenary session\, the symposium. We welcome both theoretical and applied working papers that contribute to advancements in these disciplines. \nTarget group: Researchers of U!REKA universities\, professionals \nRegistration and call for Papers: please click here.
URL:https://ureka.eu/all-events/value-based-finance-conference/
LOCATION:Amsterdam University of Applied Sciences\, Amsterdam\, Netherlands
CATEGORIES:Events
END:VEVENT
BEGIN:VEVENT
DTSTART;TZID=Europe/Helsinki:20250312T100000
DTEND;TZID=Europe/Helsinki:20250312T113000
DTSTAMP:20260423T005248
CREATED:20250228T144750Z
LAST-MODIFIED:20250303T120405Z
UID:5318-1741773600-1741779000@ureka.eu
SUMMARY:Train-the-trainer: Internationalisation of the curriculum course
DESCRIPTION:This is a 6-session training course : 5/03\, 12/03\, 19/03\, 26/03\, 2/04 and 9/04/2025 (15 hours in total) + 1 training during U!REKA connects in Helsinki \nContent: \nTrain-the-Trainer Internationalisation of the Curriculum (IoC) is a course to prepare trainers to facilitate the IoC for lecturers course. The TTT will take place in the spring semester 2025\, and the IoC course will be facilitated in the fall of 2025. The aim of the TTT is to empower trainers to engage with the content\, become experts in this topic and teach lecturers to internationalise their curriculum. We’re hoping to create a team of trainers representing the various U!reka perspectives. \nThe course consists of the 6 topics of the (existing) IoC course: \n\nInternationalisation on programme level\nInternationalisation on course level (learning outcomes)\nIntercultural awareness of the lecturer (ICC for lecturers)\nInternationalisation in the classroom (pedagogy)\nOnline international collaboration (COIL/virtual exchange)\nAssessment of internationalisation\n\nLearning outcomes: upon completion of the course\, the participants will: – be experts in the topic of curriculum internationalisation – be able to facilitate (one of) the course modules – be ambassadors for IoC in their respective institutions \nMax. 25 participants \nTrainer Eva Haug (Amsterdam UAS) \nRegister here
URL:https://ureka.eu/all-events/train-the-trainer/
CATEGORIES:Staff Training
END:VEVENT
BEGIN:VEVENT
DTSTART;TZID=Europe/Paris:20250305T100000
DTEND;TZID=Europe/Paris:20250305T113000
DTSTAMP:20260423T005248
CREATED:20250228T145110Z
LAST-MODIFIED:20250303T120515Z
UID:5322-1741168800-1741174200@ureka.eu
SUMMARY:Train-the-trainer: Internationalisation of the curriculum course
DESCRIPTION:This is a 6-session training course : 5/03\, 12/03\, 19/03\, 26/03\, 2/04 and 9/04/2025 (15 hours in total) + 1 training during U!REKA connects in Helsinki \nContent: \nTrain-the-Trainer Internationalisation of the Curriculum (IoC) is a course to prepare trainers to facilitate the IoC for lecturers course. The TTT will take place in the spring semester 2025\, and the IoC course will be facilitated in the fall of 2025. The aim of the TTT is to empower trainers to engage with the content\, become experts in this topic and teach lecturers to internationalise their curriculum. We’re hoping to create a team of trainers representing the various U!reka perspectives. \nThe course consists of the 6 topics of the (existing) IoC course: \n\nInternationalisation on programme level\nInternationalisation on course level (learning outcomes)\nIntercultural awareness of the lecturer (ICC for lecturers)\nInternationalisation in the classroom (pedagogy)\nOnline international collaboration (COIL/virtual exchange)\nAssessment of internationalisation\n\nLearning outcomes: upon completion of the course\, the participants will: – be experts in the topic of curriculum internationalisation – be able to facilitate (one of) the course modules – be ambassadors for IoC in their respective institutions \nMax. 25 participants \nTrainer Eva Haug (Amsterdam UAS) \nRegister here
URL:https://ureka.eu/all-events/train-the-trainer-internationalisation-of-the-curriculum-course-2/
LOCATION:online MS Teams
CATEGORIES:Staff Training
END:VEVENT
BEGIN:VEVENT
DTSTART;TZID=Europe/Helsinki:20250227T090000
DTEND;TZID=Europe/Helsinki:20250227T193000
DTSTAMP:20260423T005248
CREATED:20250224T135023Z
LAST-MODIFIED:20250228T144254Z
UID:5238-1740646800-1740684600@ureka.eu
SUMMARY:Shaping the future: European universities alliances for a competitive Europe
DESCRIPTION:During this high-level meeting\, participants will reflect on the achievements of the European Universities initiative\, address the remaining challenges \, and identify the avenues to continue making this initiative a long-term success. \nDiscussions will also focus on the key enabling factors for the alliances to further contribute to Europe’s sustainable prosperity and competitiveness\, while defending democracy and promoting social fairness. \nParticipants\nThe event will gather \n\nrepresentatives of all 65 European Universities alliances\,\nrepresentatives of the Seal of Excellence holders\nMembers of the European Parliament\nrepresentatives of national and regional authorities from EU countries\nkey higher education stakeholder organisations\nEuropean student organisations\nprivate sector entrepreneurs and companies\n\nFollow the event\nThe meeting’s morning sessions will be available through livestream.  \nPlease click here: https://live.mymediazone.be/pages/europeanuniversities25/registration.  \n 
URL:https://ureka.eu/all-events/shaping-the-future-european-universities-alliances-for-a-competitive-europe/
CATEGORIES:Events
END:VEVENT
BEGIN:VEVENT
DTSTART;TZID=UTC:20250123T140000
DTEND;TZID=UTC:20250123T150000
DTSTAMP:20260423T005248
CREATED:20250113T111315Z
LAST-MODIFIED:20250228T144258Z
UID:4458-1737640800-1737644400@ureka.eu
SUMMARY:Let's Share Meeting
DESCRIPTION:The alliance organises monthly Let’s share meetings that take a quick look at recent activities and welcome both old and new participants to learn about the alliance and engage with it. These meetings are held online\, and they are open for anyone interested. \nThe next Let’s share meeting will be on 23 January at 14:00 – 15:00 (CEST). \nEvent agenda: \n\nWelcoming words\nGreetings from working packages\nLet’s share ideas!\nQ&A\n\nPlease join through the Microsoft Teams link. \nFor questions\, ask the U!REKA Institutional Coordinator of your institution or contact Ana Raposo (araposo@sp.ipl.pt).
URL:https://ureka.eu/all-events/lets-share-meeting-2/
CATEGORIES:Events
ATTACH;FMTTYPE=image/jpeg:https://ureka.eu/wp-content/uploads/2024/11/ureka_debates_.jpg
END:VEVENT
END:VCALENDAR