BEGIN:VCALENDAR
VERSION:2.0
PRODID:-//U!REKA - ECPv6.15.20//NONSGML v1.0//EN
CALSCALE:GREGORIAN
METHOD:PUBLISH
X-WR-CALNAME:U!REKA
X-ORIGINAL-URL:https://ureka.eu
X-WR-CALDESC:Events for U!REKA
REFRESH-INTERVAL;VALUE=DURATION:PT1H
X-Robots-Tag:noindex
X-PUBLISHED-TTL:PT1H
BEGIN:VTIMEZONE
TZID:UTC
BEGIN:STANDARD
TZOFFSETFROM:+0000
TZOFFSETTO:+0000
TZNAME:UTC
DTSTART:20240101T000000
END:STANDARD
END:VTIMEZONE
BEGIN:VTIMEZONE
TZID:Europe/Paris
BEGIN:DAYLIGHT
TZOFFSETFROM:+0100
TZOFFSETTO:+0200
TZNAME:CEST
DTSTART:20240331T010000
END:DAYLIGHT
BEGIN:STANDARD
TZOFFSETFROM:+0200
TZOFFSETTO:+0100
TZNAME:CET
DTSTART:20241027T010000
END:STANDARD
BEGIN:DAYLIGHT
TZOFFSETFROM:+0100
TZOFFSETTO:+0200
TZNAME:CEST
DTSTART:20250330T010000
END:DAYLIGHT
BEGIN:STANDARD
TZOFFSETFROM:+0200
TZOFFSETTO:+0100
TZNAME:CET
DTSTART:20251026T010000
END:STANDARD
BEGIN:DAYLIGHT
TZOFFSETFROM:+0100
TZOFFSETTO:+0200
TZNAME:CEST
DTSTART:20260329T010000
END:DAYLIGHT
BEGIN:STANDARD
TZOFFSETFROM:+0200
TZOFFSETTO:+0100
TZNAME:CET
DTSTART:20261025T010000
END:STANDARD
END:VTIMEZONE
BEGIN:VTIMEZONE
TZID:Europe/Helsinki
BEGIN:DAYLIGHT
TZOFFSETFROM:+0200
TZOFFSETTO:+0300
TZNAME:EEST
DTSTART:20240331T010000
END:DAYLIGHT
BEGIN:STANDARD
TZOFFSETFROM:+0300
TZOFFSETTO:+0200
TZNAME:EET
DTSTART:20241027T010000
END:STANDARD
BEGIN:DAYLIGHT
TZOFFSETFROM:+0200
TZOFFSETTO:+0300
TZNAME:EEST
DTSTART:20250330T010000
END:DAYLIGHT
BEGIN:STANDARD
TZOFFSETFROM:+0300
TZOFFSETTO:+0200
TZNAME:EET
DTSTART:20251026T010000
END:STANDARD
BEGIN:DAYLIGHT
TZOFFSETFROM:+0200
TZOFFSETTO:+0300
TZNAME:EEST
DTSTART:20260329T010000
END:DAYLIGHT
BEGIN:STANDARD
TZOFFSETFROM:+0300
TZOFFSETTO:+0200
TZNAME:EET
DTSTART:20261025T010000
END:STANDARD
END:VTIMEZONE
BEGIN:VEVENT
DTSTART;TZID=UTC:20250320T140000
DTEND;TZID=UTC:20250320T150000
DTSTAMP:20260423T022307
CREATED:20250113T110654Z
LAST-MODIFIED:20250228T144247Z
UID:4455-1742479200-1742482800@ureka.eu
SUMMARY:Let's Share Meeting
DESCRIPTION:The alliance organises monthly Let’s share meetings that take a quick look at recent activities and welcome both old and new participants to learn about the alliance and engage with it. These meetings are held online\, and they are open for anyone interested. \nThe next Let’s share meeting will be on 20 March at 14:00 – 15:00 (CEST). \nEvent agenda: \n\nWelcoming words\nGreetings from working packages\nLet’s share ideas!\nQ&A\n\nPlease join through the Microsoft Teams link.
URL:https://ureka.eu/all-events/lets-share-meeting/
CATEGORIES:Events
ATTACH;FMTTYPE=image/jpeg:https://ureka.eu/wp-content/uploads/2024/11/ureka_debates_.jpg
END:VEVENT
BEGIN:VEVENT
DTSTART;TZID=Europe/Paris:20250319T100000
DTEND;TZID=Europe/Paris:20250319T123000
DTSTAMP:20260423T022307
CREATED:20250228T144850Z
LAST-MODIFIED:20250303T120654Z
UID:5320-1742378400-1742387400@ureka.eu
SUMMARY:Train-the-trainer: Internationalisation of the curriculum course
DESCRIPTION:This is a 6-session training course : 5/03\, 12/03\, 19/03\, 26/03\, 2/04 and 9/04/2025 (15 hours in total) + 1 training during U!REKA connects in Helsinki \nContent: \nTrain-the-Trainer Internationalisation of the Curriculum (IoC) is a course to prepare trainers to facilitate the IoC for lecturers course. The TTT will take place in the spring semester 2025\, and the IoC course will be facilitated in the fall of 2025. The aim of the TTT is to empower trainers to engage with the content\, become experts in this topic and teach lecturers to internationalise their curriculum. We’re hoping to create a team of trainers representing the various U!reka perspectives. \nThe course consists of the 6 topics of the (existing) IoC course: \n\nInternationalisation on programme level\nInternationalisation on course level (learning outcomes)\nIntercultural awareness of the lecturer (ICC for lecturers)\nInternationalisation in the classroom (pedagogy)\nOnline international collaboration (COIL/virtual exchange)\nAssessment of internationalisation\n\nLearning outcomes: upon completion of the course\, the participants will: – be experts in the topic of curriculum internationalisation – be able to facilitate (one of) the course modules – be ambassadors for IoC in their respective institutions \nMax. 25 participants \nTrainer Eva Haug (Amsterdam UAS) \nRegister here \nMax. 25 participants
URL:https://ureka.eu/all-events/train-the-trainer-2/
LOCATION:online MS Teams
CATEGORIES:Staff Training
END:VEVENT
BEGIN:VEVENT
DTSTART;VALUE=DATE:20250318
DTEND;VALUE=DATE:20250320
DTSTAMP:20260423T022307
CREATED:20250219T085925Z
LAST-MODIFIED:20250228T144251Z
UID:5215-1742256000-1742428799@ureka.eu
SUMMARY:Value-Based Finance Conference
DESCRIPTION:The Values-Based Finance Conference will explore several topics related to sustainable banking and finance\, aiming to bring together leading researchers and practitioners to discuss innovative ideas and recent advancements in the field. It is organized into two main components: the Academic Sessions and the plenary session (Symposium). During the Academic Sessions (open only for researchers)\, participants will present and discuss their working papers\, fostering scholarly exchange and collaboration. The Symposium (open for researchers and professionals) will feature industry professionals who will address current issues and developments related to sustainable banking\, small and medium-sized enterprises (SMEs)\, and finance. \nWe invite researchers and professionals working in the fields of sustainable banking\, finance\, and related areas to participate in our conference. Researchers are encouraged to submit their work for the academic sessions\, while professionals are welcome to take part in the plenary session\, the symposium. We welcome both theoretical and applied working papers that contribute to advancements in these disciplines. \nTarget group: Researchers of U!REKA universities\, professionals \nRegistration and call for Papers: please click here.
URL:https://ureka.eu/all-events/value-based-finance-conference/
LOCATION:Amsterdam University of Applied Sciences\, Amsterdam\, Netherlands
CATEGORIES:Events
END:VEVENT
BEGIN:VEVENT
DTSTART;TZID=Europe/Helsinki:20250312T100000
DTEND;TZID=Europe/Helsinki:20250312T113000
DTSTAMP:20260423T022307
CREATED:20250228T144750Z
LAST-MODIFIED:20250303T120405Z
UID:5318-1741773600-1741779000@ureka.eu
SUMMARY:Train-the-trainer: Internationalisation of the curriculum course
DESCRIPTION:This is a 6-session training course : 5/03\, 12/03\, 19/03\, 26/03\, 2/04 and 9/04/2025 (15 hours in total) + 1 training during U!REKA connects in Helsinki \nContent: \nTrain-the-Trainer Internationalisation of the Curriculum (IoC) is a course to prepare trainers to facilitate the IoC for lecturers course. The TTT will take place in the spring semester 2025\, and the IoC course will be facilitated in the fall of 2025. The aim of the TTT is to empower trainers to engage with the content\, become experts in this topic and teach lecturers to internationalise their curriculum. We’re hoping to create a team of trainers representing the various U!reka perspectives. \nThe course consists of the 6 topics of the (existing) IoC course: \n\nInternationalisation on programme level\nInternationalisation on course level (learning outcomes)\nIntercultural awareness of the lecturer (ICC for lecturers)\nInternationalisation in the classroom (pedagogy)\nOnline international collaboration (COIL/virtual exchange)\nAssessment of internationalisation\n\nLearning outcomes: upon completion of the course\, the participants will: – be experts in the topic of curriculum internationalisation – be able to facilitate (one of) the course modules – be ambassadors for IoC in their respective institutions \nMax. 25 participants \nTrainer Eva Haug (Amsterdam UAS) \nRegister here
URL:https://ureka.eu/all-events/train-the-trainer/
CATEGORIES:Staff Training
END:VEVENT
BEGIN:VEVENT
DTSTART;TZID=Europe/Paris:20250305T100000
DTEND;TZID=Europe/Paris:20250305T113000
DTSTAMP:20260423T022307
CREATED:20250228T145110Z
LAST-MODIFIED:20250303T120515Z
UID:5322-1741168800-1741174200@ureka.eu
SUMMARY:Train-the-trainer: Internationalisation of the curriculum course
DESCRIPTION:This is a 6-session training course : 5/03\, 12/03\, 19/03\, 26/03\, 2/04 and 9/04/2025 (15 hours in total) + 1 training during U!REKA connects in Helsinki \nContent: \nTrain-the-Trainer Internationalisation of the Curriculum (IoC) is a course to prepare trainers to facilitate the IoC for lecturers course. The TTT will take place in the spring semester 2025\, and the IoC course will be facilitated in the fall of 2025. The aim of the TTT is to empower trainers to engage with the content\, become experts in this topic and teach lecturers to internationalise their curriculum. We’re hoping to create a team of trainers representing the various U!reka perspectives. \nThe course consists of the 6 topics of the (existing) IoC course: \n\nInternationalisation on programme level\nInternationalisation on course level (learning outcomes)\nIntercultural awareness of the lecturer (ICC for lecturers)\nInternationalisation in the classroom (pedagogy)\nOnline international collaboration (COIL/virtual exchange)\nAssessment of internationalisation\n\nLearning outcomes: upon completion of the course\, the participants will: – be experts in the topic of curriculum internationalisation – be able to facilitate (one of) the course modules – be ambassadors for IoC in their respective institutions \nMax. 25 participants \nTrainer Eva Haug (Amsterdam UAS) \nRegister here
URL:https://ureka.eu/all-events/train-the-trainer-internationalisation-of-the-curriculum-course-2/
LOCATION:online MS Teams
CATEGORIES:Staff Training
END:VEVENT
BEGIN:VEVENT
DTSTART;TZID=Europe/Helsinki:20250227T090000
DTEND;TZID=Europe/Helsinki:20250227T193000
DTSTAMP:20260423T022307
CREATED:20250224T135023Z
LAST-MODIFIED:20250228T144254Z
UID:5238-1740646800-1740684600@ureka.eu
SUMMARY:Shaping the future: European universities alliances for a competitive Europe
DESCRIPTION:During this high-level meeting\, participants will reflect on the achievements of the European Universities initiative\, address the remaining challenges \, and identify the avenues to continue making this initiative a long-term success. \nDiscussions will also focus on the key enabling factors for the alliances to further contribute to Europe’s sustainable prosperity and competitiveness\, while defending democracy and promoting social fairness. \nParticipants\nThe event will gather \n\nrepresentatives of all 65 European Universities alliances\,\nrepresentatives of the Seal of Excellence holders\nMembers of the European Parliament\nrepresentatives of national and regional authorities from EU countries\nkey higher education stakeholder organisations\nEuropean student organisations\nprivate sector entrepreneurs and companies\n\nFollow the event\nThe meeting’s morning sessions will be available through livestream.  \nPlease click here: https://live.mymediazone.be/pages/europeanuniversities25/registration.  \n 
URL:https://ureka.eu/all-events/shaping-the-future-european-universities-alliances-for-a-competitive-europe/
CATEGORIES:Events
END:VEVENT
BEGIN:VEVENT
DTSTART;TZID=UTC:20250123T140000
DTEND;TZID=UTC:20250123T150000
DTSTAMP:20260423T022307
CREATED:20250113T111315Z
LAST-MODIFIED:20250228T144258Z
UID:4458-1737640800-1737644400@ureka.eu
SUMMARY:Let's Share Meeting
DESCRIPTION:The alliance organises monthly Let’s share meetings that take a quick look at recent activities and welcome both old and new participants to learn about the alliance and engage with it. These meetings are held online\, and they are open for anyone interested. \nThe next Let’s share meeting will be on 23 January at 14:00 – 15:00 (CEST). \nEvent agenda: \n\nWelcoming words\nGreetings from working packages\nLet’s share ideas!\nQ&A\n\nPlease join through the Microsoft Teams link. \nFor questions\, ask the U!REKA Institutional Coordinator of your institution or contact Ana Raposo (araposo@sp.ipl.pt).
URL:https://ureka.eu/all-events/lets-share-meeting-2/
CATEGORIES:Events
ATTACH;FMTTYPE=image/jpeg:https://ureka.eu/wp-content/uploads/2024/11/ureka_debates_.jpg
END:VEVENT
END:VCALENDAR