BEGIN:VCALENDAR
VERSION:2.0
PRODID:-//U!REKA - ECPv6.15.20//NONSGML v1.0//EN
CALSCALE:GREGORIAN
METHOD:PUBLISH
X-WR-CALNAME:U!REKA
X-ORIGINAL-URL:https://ureka.eu
X-WR-CALDESC:Events for U!REKA
REFRESH-INTERVAL;VALUE=DURATION:PT1H
X-Robots-Tag:noindex
X-PUBLISHED-TTL:PT1H
BEGIN:VTIMEZONE
TZID:Europe/Helsinki
BEGIN:DAYLIGHT
TZOFFSETFROM:+0200
TZOFFSETTO:+0300
TZNAME:EEST
DTSTART:20240331T010000
END:DAYLIGHT
BEGIN:STANDARD
TZOFFSETFROM:+0300
TZOFFSETTO:+0200
TZNAME:EET
DTSTART:20241027T010000
END:STANDARD
BEGIN:DAYLIGHT
TZOFFSETFROM:+0200
TZOFFSETTO:+0300
TZNAME:EEST
DTSTART:20250330T010000
END:DAYLIGHT
BEGIN:STANDARD
TZOFFSETFROM:+0300
TZOFFSETTO:+0200
TZNAME:EET
DTSTART:20251026T010000
END:STANDARD
BEGIN:DAYLIGHT
TZOFFSETFROM:+0200
TZOFFSETTO:+0300
TZNAME:EEST
DTSTART:20260329T010000
END:DAYLIGHT
BEGIN:STANDARD
TZOFFSETFROM:+0300
TZOFFSETTO:+0200
TZNAME:EET
DTSTART:20261025T010000
END:STANDARD
END:VTIMEZONE
BEGIN:VEVENT
DTSTART;VALUE=DATE:20251115
DTEND;VALUE=DATE:20251116
DTSTAMP:20260423T010130
CREATED:20251020T095443Z
LAST-MODIFIED:20251020T095549Z
UID:8685-1763164800-1763251199@ureka.eu
SUMMARY:Urban Circular Hack(athon) 2025: call for applications
DESCRIPTION:How can we reduce waste in the sense of a sustainable circular economy? And how can we create sustainable systems in which materials can be reused and resources recycled? \nFrankfurt University of Applied Sciences (Frankfurt UAS) invites students and researchers of all U!REKA partner universities as well as interested stakeholders from local industries\, cities and the general society to the creative and society-oriented UrbanCircularHack(athon). Participants will jointly develop innovative approaches and solutions to real-world challenges and thus actively participate in shaping a more sustainable future. \nThe UrbanCircularHack(athon) takes place at Frankfurt UAS on November 24 to 25\, 2025. \nThe event will be held in English. \nParticipation is free of charge. \nRegistration: Save your spot! (Deadline November 15\, 2025)
URL:https://ureka.eu/all-events/urban-circular-hackathon-2025-call-for-applications/
LOCATION:Frankfurt University of Applied Sciences\, Nibelungenplatz 1\, Frankfurt\, 60311\, Germany
CATEGORIES:Calls
ATTACH;FMTTYPE=image/png:https://ureka.eu/wp-content/uploads/2024/11/change-agents-2024-outside_photo-dewi-lagerberg.png
END:VEVENT
END:VCALENDAR